BEGIN:VCALENDAR
VERSION:2.0
PRODID:-//Automobilsällskapet Nyköping - ECPv4.7.3//NONSGML v1.0//EN
CALSCALE:GREGORIAN
METHOD:PUBLISH
X-WR-CALNAME:Automobilsällskapet Nyköping
X-ORIGINAL-URL:http://automobilsallskapet.se
X-WR-CALDESC:Händelser för Automobilsällskapet Nyköping
BEGIN:VEVENT
DTSTART;TZID=Europe/Stockholm:20220420T173000
DTEND;TZID=Europe/Stockholm:20220420T200000
DTSTAMP:20260425T202631
CREATED:20220221T163536Z
LAST-MODIFIED:20220221T164357Z
UID:11796-1650475800-1650484800@automobilsallskapet.se
SUMMARY:Medlemskväll  Tema: Citroën 2 CV
DESCRIPTION:Ingemar Hellman – hängiven Citroën-man- berättar och visar bilder om 2CV’s historia. Vi hoppas det kommer att finnas många små-cittror på gräsmattan bakom klubbhuset. Alla som kommer i 2CV bjuds på fikat den här kvällen \nVärdar: Urban o Sonja \n
URL:http://automobilsallskapet.se/event/medlemskvall-tema-citroen-2-cv
END:VEVENT
END:VCALENDAR