BEGIN:VCALENDAR
VERSION:2.0
PRODID:-//Automobilsällskapet Nyköping - ECPv4.7.3//NONSGML v1.0//EN
CALSCALE:GREGORIAN
METHOD:PUBLISH
X-WR-CALNAME:Automobilsällskapet Nyköping
X-ORIGINAL-URL:http://automobilsallskapet.se
X-WR-CALDESC:Händelser för Automobilsällskapet Nyköping
BEGIN:VEVENT
DTSTART;TZID=Europe/Stockholm:20211117T173000
DTEND;TZID=Europe/Stockholm:20211117T200000
DTSTAMP:20260422T005746
CREATED:20211002T184348Z
LAST-MODIFIED:20211027T193144Z
UID:11681-1637170200-1637179200@automobilsallskapet.se
SUMMARY:Medlemskväll med Bildgruppen: "Motorbilder från gamla Nyköping"
DESCRIPTION:Fika börjar redan 17.30 och vi släpper loss Hasse Jonsson från Bildgruppen  18.00 då han ska visa gamla Motorbilder från Nyköping \nKlubbvärdar: Rojne o Elisabeth Pettersson \n
URL:http://automobilsallskapet.se/event/medlemskvall-med-tema-tva-hastar-pa-klubben
END:VEVENT
END:VCALENDAR