BEGIN:VCALENDAR
VERSION:2.0
PRODID:-//Automobilsällskapet Nyköping - ECPv4.7.3//NONSGML v1.0//EN
CALSCALE:GREGORIAN
METHOD:PUBLISH
X-WR-CALNAME:Automobilsällskapet Nyköping
X-ORIGINAL-URL:http://automobilsallskapet.se
X-WR-CALDESC:Händelser för Automobilsällskapet Nyköping
BEGIN:VEVENT
DTSTART;TZID=Europe/Stockholm:20240320T180000
DTEND;TZID=Europe/Stockholm:20240320T180000
DTSTAMP:20260421T001809
CREATED:20231227T162249Z
LAST-MODIFIED:20240220T182418Z
UID:13192-1710957600-1710957600@automobilsallskapet.se
SUMMARY:Medlemskväll: Go-kart på Sunlight
DESCRIPTION:Den här kvällen flyttar vi in på Hotell Sunlights go-kartbana för att avgöra ”klubbmästerskapet”\, men framförallt att ha roligt på tävlingsbanan. \nVi startar kl 18.00 och för att få köra måste ni anmäla er till Per Gustafsson på                070-666 75 71  senast den 15 mars. Det kostar 300 kr/person inkl korv o dricka. \n  \nEvenemangsansvarig: Per Gustafsson \n
URL:http://automobilsallskapet.se/event/medlemskvall-go-kart-pa-sunlight
END:VEVENT
END:VCALENDAR