BEGIN:VCALENDAR
VERSION:2.0
PRODID:-//Automobilsällskapet Nyköping - ECPv4.7.3//NONSGML v1.0//EN
CALSCALE:GREGORIAN
METHOD:PUBLISH
X-WR-CALNAME:Automobilsällskapet Nyköping
X-ORIGINAL-URL:http://automobilsallskapet.se
X-WR-CALDESC:Händelser för Automobilsällskapet Nyköping
BEGIN:VEVENT
DTSTART;TZID=Europe/Stockholm:20211201T173000
DTEND;TZID=Europe/Stockholm:20211201T200000
DTSTAMP:20260422T061418
CREATED:20211002T185105Z
LAST-MODIFIED:20211125T090620Z
UID:11687-1638379800-1638388800@automobilsallskapet.se
SUMMARY:Medlemskväll\,  "Bilstaden Nyköping"
DESCRIPTION:Bildvisning och föredrag om historiska bilstaden Nyköping från 1830-talet till våra dagar. Urban Nyblom dammar av sitt bildprogram som är fyllt av lokalhistoria. \nFika från 17.30 – föredraget börjar 18.00 \nKlubbvärdar:  Ingvar o Eva-Marie Lindqvist \n
URL:http://automobilsallskapet.se/event/medlemskvall-bildgruppen-visar-gamla-nykopingsbilder
END:VEVENT
END:VCALENDAR