BEGIN:VCALENDAR
VERSION:2.0
PRODID:-//Automobilsällskapet Nyköping - ECPv4.7.3//NONSGML v1.0//EN
CALSCALE:GREGORIAN
METHOD:PUBLISH
X-WR-CALNAME:Automobilsällskapet Nyköping
X-ORIGINAL-URL:http://automobilsallskapet.se
X-WR-CALDESC:Händelser för Automobilsällskapet Nyköping
BEGIN:VEVENT
DTSTART;TZID=Europe/Stockholm:20200304T170000
DTEND;TZID=Europe/Stockholm:20200304T210000
DTSTAMP:20260425T220221
CREATED:20200101T161542Z
LAST-MODIFIED:20200101T161542Z
UID:10916-1583341200-1583355600@automobilsallskapet.se
SUMMARY:Medlemskväll  "Ångslupen Munters historia"
DESCRIPTION:Vi får besök av Ville Koch\, styrelsemedlem i Munters Vänner\, och författare till boken om Munter som nyligen publicerats. Han kommer att visa intressanta historiska bilder och berätta om Munters historia. \nKaffeservering från 17.00 – kl 18.15 börjar programmet \nVärdar: Rojne o Elisabeth Pettersson \n
URL:http://automobilsallskapet.se/event/medlemskvall-angslupen-munters-historia
END:VEVENT
END:VCALENDAR