BEGIN:VCALENDAR
VERSION:2.0
PRODID:-//Automobilsällskapet Nyköping - ECPv4.7.3//NONSGML v1.0//EN
CALSCALE:GREGORIAN
METHOD:PUBLISH
X-WR-CALNAME:Automobilsällskapet Nyköping
X-ORIGINAL-URL:http://automobilsallskapet.se
X-WR-CALDESC:Händelser för Automobilsällskapet Nyköping
BEGIN:VEVENT
DTSTART;TZID=Europe/Stockholm:20200808T140000
DTEND;TZID=Europe/Stockholm:20200808T163000
DTSTAMP:20260425T105952
CREATED:20200731T111428Z
LAST-MODIFIED:20200731T111736Z
UID:11208-1596895200-1596904200@automobilsallskapet.se
SUMMARY:Lördagsrundan och fikaträff på Skavsta
DESCRIPTION:Som tidigare denna coronasommar kör vi lördagsrundan enligt bif. karta mellan 14 och 15. \nDen som vill kan träffas för medhavt fika i gräset ute vid klubblokalen. \nDen här lördagen är det även utdelning av våra klubbjackor som nu har anlänt. \n \n
URL:http://automobilsallskapet.se/event/lordagsrundan-och-fikatraff-pa-skavsta
END:VEVENT
END:VCALENDAR