BEGIN:VCALENDAR
VERSION:2.0
PRODID:-//Automobilsällskapet Nyköping - ECPv4.7.3//NONSGML v1.0//EN
CALSCALE:GREGORIAN
METHOD:PUBLISH
X-WR-CALNAME:Automobilsällskapet Nyköping
X-ORIGINAL-URL:http://automobilsallskapet.se
X-WR-CALDESC:Händelser för Automobilsällskapet Nyköping
BEGIN:VEVENT
DTSTART;TZID=Europe/Stockholm:20210508T130000
DTEND;TZID=Europe/Stockholm:20210508T150000
DTSTAMP:20260421T123035
CREATED:20210407T123411Z
LAST-MODIFIED:20210407T123958Z
UID:11398-1620478800-1620486000@automobilsallskapet.se
SUMMARY:Lördagsrundan
DESCRIPTION:Åk rundan mellan 13 och 14\, sedan väljer du om du vill öppna din fikakorg på Skavsta. \n
URL:http://automobilsallskapet.se/event/lordagsrundan-8
END:VEVENT
END:VCALENDAR