BEGIN:VCALENDAR
VERSION:2.0
PRODID:-//Automobilsällskapet Nyköping - ECPv4.7.3//NONSGML v1.0//EN
CALSCALE:GREGORIAN
METHOD:PUBLISH
X-WR-CALNAME:Automobilsällskapet Nyköping
X-ORIGINAL-URL:http://automobilsallskapet.se
X-WR-CALDESC:Händelser för Automobilsällskapet Nyköping
BEGIN:VEVENT
DTSTART;TZID=Europe/Stockholm:20200725T140000
DTEND;TZID=Europe/Stockholm:20200725T150000
DTSTAMP:20260425T173448
CREATED:20200704T074150Z
LAST-MODIFIED:20200704T074151Z
UID:11171-1595685600-1595689200@automobilsallskapet.se
SUMMARY:Lördagsrundan
DESCRIPTION:Mellan 14 och 15 kan du välja någon av våra rundor och visa upp pärlan\, möta andra pärlor och om vädret tillåter träffa klubbkamrater ute vid klubbhuset på Skavsta. Starta när du vill\, åk åt vilket håll du vill och avsluta när du vill.  Fikakorg och stolar rekommenderas.  Ingen anmälan \n
URL:http://automobilsallskapet.se/event/lordagsrundan-7
END:VEVENT
END:VCALENDAR