BEGIN:VCALENDAR
VERSION:2.0
PRODID:-//Automobilsällskapet Nyköping - ECPv4.7.3//NONSGML v1.0//EN
CALSCALE:GREGORIAN
METHOD:PUBLISH
X-WR-CALNAME:Automobilsällskapet Nyköping
X-ORIGINAL-URL:http://automobilsallskapet.se
X-WR-CALDESC:Händelser för Automobilsällskapet Nyköping
BEGIN:VEVENT
DTSTART;TZID=Europe/Stockholm:20200711T140000
DTEND;TZID=Europe/Stockholm:20200711T150000
DTSTAMP:20260425T200459
CREATED:20200704T073445Z
LAST-MODIFIED:20200704T073445Z
UID:11167-1594476000-1594479600@automobilsallskapet.se
SUMMARY:Lördagsrundan
DESCRIPTION:Mellan 14 och 15 kan du åka våra rundor i Nyköping och visa upp din pärla\, möta andra pärlor och om vädret tillåter träffa klubbkamrater med medhavt fika ute vid klubbhuset på Skavsta. Du startar när du vill\, åker i valfri riktning och avslutar körningen när du vill. Ingen anmälan. \n
URL:http://automobilsallskapet.se/event/lordagsrundan-5
END:VEVENT
END:VCALENDAR