BEGIN:VCALENDAR
VERSION:2.0
PRODID:-//Automobilsällskapet Nyköping - ECPv4.7.3//NONSGML v1.0//EN
CALSCALE:GREGORIAN
METHOD:PUBLISH
X-WR-CALNAME:Automobilsällskapet Nyköping
X-ORIGINAL-URL:http://automobilsallskapet.se
X-WR-CALDESC:Händelser för Automobilsällskapet Nyköping
BEGIN:VEVENT
DTSTART;TZID=Europe/Stockholm:20200704T140000
DTEND;TZID=Europe/Stockholm:20200704T150000
DTSTAMP:20260425T200455
CREATED:20200704T073034Z
LAST-MODIFIED:20200704T073034Z
UID:11165-1593871200-1593874800@automobilsallskapet.se
SUMMARY:Lördagsrundan
DESCRIPTION:Mellan 14 och 15 kan du åka våra rundor och visa upp pärlan\, möta andra pärlor och om vädret tillåter träffa klubbmedlemmar ute vid klubbhuset på Skavsta. Ingen anmälan! Du kan börja när du vill\, åka i vilken riktning du vill och sluta när du vill. \n
URL:http://automobilsallskapet.se/event/lordagsrundan-4
END:VEVENT
END:VCALENDAR