BEGIN:VCALENDAR
VERSION:2.0
PRODID:-//Automobilsällskapet Nyköping - ECPv4.7.3//NONSGML v1.0//EN
CALSCALE:GREGORIAN
METHOD:PUBLISH
X-WR-CALNAME:Automobilsällskapet Nyköping
X-ORIGINAL-URL:http://automobilsallskapet.se
X-WR-CALDESC:Händelser för Automobilsällskapet Nyköping
BEGIN:VEVENT
DTSTART;TZID=Europe/Stockholm:20210807T130000
DTEND;TZID=Europe/Stockholm:20210807T150000
DTSTAMP:20260420T162010
CREATED:20210722T061319Z
LAST-MODIFIED:20210722T070517Z
UID:11506-1628341200-1628348400@automobilsallskapet.se
SUMMARY:Lördagsrundan
DESCRIPTION:Fri körning i sta’n 13-14   därefter fikaträff i parken vid klubblokalen. \n
URL:http://automobilsallskapet.se/event/lordagsrundan-20
END:VEVENT
END:VCALENDAR