BEGIN:VCALENDAR
VERSION:2.0
PRODID:-//Automobilsällskapet Nyköping - ECPv4.7.3//NONSGML v1.0//EN
CALSCALE:GREGORIAN
METHOD:PUBLISH
X-WR-CALNAME:Automobilsällskapet Nyköping
X-ORIGINAL-URL:http://automobilsallskapet.se
X-WR-CALDESC:Händelser för Automobilsällskapet Nyköping
BEGIN:VEVENT
DTSTART;TZID=Europe/Stockholm:20210724T130000
DTEND;TZID=Europe/Stockholm:20210724T150000
DTSTAMP:20260420T125441
CREATED:20210407T130406Z
LAST-MODIFIED:20210407T130406Z
UID:11420-1627131600-1627138800@automobilsallskapet.se
SUMMARY:Lördagsrundan
DESCRIPTION:Kör rundan mellan 13 och 14 – därefter fika på Skavsta \n
URL:http://automobilsallskapet.se/event/lordagsrundan-18
END:VEVENT
END:VCALENDAR