BEGIN:VCALENDAR
VERSION:2.0
PRODID:-//Automobilsällskapet Nyköping - ECPv4.7.3//NONSGML v1.0//EN
CALSCALE:GREGORIAN
METHOD:PUBLISH
X-WR-CALNAME:Automobilsällskapet Nyköping
X-ORIGINAL-URL:http://automobilsallskapet.se
X-WR-CALDESC:Händelser för Automobilsällskapet Nyköping
BEGIN:VEVENT
DTSTART;TZID=Europe/Stockholm:20210717T130000
DTEND;TZID=Europe/Stockholm:20210717T150000
DTSTAMP:20260420T154851
CREATED:20210407T130240Z
LAST-MODIFIED:20210407T130241Z
UID:11418-1626526800-1626534000@automobilsallskapet.se
SUMMARY:Lördagsrundan
DESCRIPTION:Kör rundan mellan 13 och 14 – därefter fika på Skavsta \n
URL:http://automobilsallskapet.se/event/lordagsrundan-17
END:VEVENT
END:VCALENDAR