BEGIN:VCALENDAR
VERSION:2.0
PRODID:-//Automobilsällskapet Nyköping - ECPv4.7.3//NONSGML v1.0//EN
CALSCALE:GREGORIAN
METHOD:PUBLISH
X-WR-CALNAME:Automobilsällskapet Nyköping
X-ORIGINAL-URL:http://automobilsallskapet.se
X-WR-CALDESC:Händelser för Automobilsällskapet Nyköping
BEGIN:VEVENT
DTSTART;TZID=Europe/Stockholm:20210710T130000
DTEND;TZID=Europe/Stockholm:20210710T150000
DTSTAMP:20260420T190505
CREATED:20210407T130050Z
LAST-MODIFIED:20210407T130051Z
UID:11416-1625922000-1625929200@automobilsallskapet.se
SUMMARY:Lördagsrundan
DESCRIPTION:Kör rundan mellan 13 och 14 och sedan kan man njuta av fikakorgen på Skavsta \n
URL:http://automobilsallskapet.se/event/lordagsrundan-16
END:VEVENT
END:VCALENDAR