BEGIN:VCALENDAR
VERSION:2.0
PRODID:-//Automobilsällskapet Nyköping - ECPv4.7.3//NONSGML v1.0//EN
CALSCALE:GREGORIAN
METHOD:PUBLISH
X-WR-CALNAME:Automobilsällskapet Nyköping
X-ORIGINAL-URL:http://automobilsallskapet.se
X-WR-CALDESC:Händelser för Automobilsällskapet Nyköping
BEGIN:VEVENT
DTSTART;TZID=Europe/Stockholm:20210703T130000
DTEND;TZID=Europe/Stockholm:20210703T150000
DTSTAMP:20260420T190647
CREATED:20210407T125830Z
LAST-MODIFIED:20210407T125830Z
UID:11414-1625317200-1625324400@automobilsallskapet.se
SUMMARY:Lördagsrundan
DESCRIPTION:Kör rundan mellan 13 och 14 och sedan kan du ta med fikakorgen till Skavsta \n
URL:http://automobilsallskapet.se/event/lordagsrundan-15
END:VEVENT
END:VCALENDAR