BEGIN:VCALENDAR
VERSION:2.0
PRODID:-//Automobilsällskapet Nyköping - ECPv4.7.3//NONSGML v1.0//EN
CALSCALE:GREGORIAN
METHOD:PUBLISH
X-WR-CALNAME:Automobilsällskapet Nyköping
X-ORIGINAL-URL:http://automobilsallskapet.se
X-WR-CALDESC:Händelser för Automobilsällskapet Nyköping
BEGIN:VEVENT
DTSTART;TZID=Europe/Stockholm:20210612T130000
DTEND;TZID=Europe/Stockholm:20210612T150000
DTSTAMP:20260421T002213
CREATED:20210407T124925Z
LAST-MODIFIED:20210407T124925Z
UID:11408-1623502800-1623510000@automobilsallskapet.se
SUMMARY:Lördagsrundan
DESCRIPTION:Kör rundan mellan 13 och 14 och sedan kan du njuta av din fikakorg på Skavsta \n
URL:http://automobilsallskapet.se/event/lordagsrundan-13
END:VEVENT
END:VCALENDAR