BEGIN:VCALENDAR
VERSION:2.0
PRODID:-//Automobilsällskapet Nyköping - ECPv4.7.3//NONSGML v1.0//EN
CALSCALE:GREGORIAN
METHOD:PUBLISH
X-WR-CALNAME:Automobilsällskapet Nyköping
X-ORIGINAL-URL:http://automobilsallskapet.se
X-WR-CALDESC:Händelser för Automobilsällskapet Nyköping
BEGIN:VEVENT
DTSTART;TZID=Europe/Stockholm:20210529T130000
DTEND;TZID=Europe/Stockholm:20210529T150000
DTSTAMP:20260421T053146
CREATED:20210407T124539Z
LAST-MODIFIED:20210407T124539Z
UID:11404-1622293200-1622300400@automobilsallskapet.se
SUMMARY:Lördagsrundan
DESCRIPTION:Kör rundan mellan 13 och 14 och sedan kan du öppna din fikakorg på Skavsta \n
URL:http://automobilsallskapet.se/event/lordagsrundan-11
END:VEVENT
END:VCALENDAR