BEGIN:VCALENDAR
VERSION:2.0
PRODID:-//Automobilsällskapet Nyköping - ECPv4.7.3//NONSGML v1.0//EN
CALSCALE:GREGORIAN
METHOD:PUBLISH
X-WR-CALNAME:Automobilsällskapet Nyköping
X-ORIGINAL-URL:http://automobilsallskapet.se
X-WR-CALDESC:Händelser för Automobilsällskapet Nyköping
BEGIN:VEVENT
DTSTART;TZID=Europe/Stockholm:20210424T110000
DTEND;TZID=Europe/Stockholm:20210424T140000
DTSTAMP:20260421T181414
CREATED:20210406T082757Z
LAST-MODIFIED:20210417T155648Z
UID:11382-1619262000-1619272800@automobilsallskapet.se
SUMMARY:Loppis  INSTÄLLT
DESCRIPTION:obs!  Eftersom coronaläget fortfarande är ansträngt så vill vi inte utsätta någon för riskerna med vår planerade loppis!  Vi får hoppas att vi kan återkomma längre fram.Efter alla coronastädningar på vindar och i källare finns det säkert en massa roliga saker att sälja. Vi ställer platser till förfogande i parken bakom klubblokalen lördagen den 24 april kl 11-14. Du får i princip sälja vad du vill\, men trevligast är förstås om prylarna har anknytning till vår kulturella gärning. \nGratis säljplatser  Sälj ur bakluckan eller ta med bord. Du får den plats du behöver! \nRejält avstånd mellan säljarna \nEgen medhavd picknick \nInformation: Per och Åsa Sjölund   070-551 13 38  eller 073-204 03 70 \n
URL:http://automobilsallskapet.se/event/loppis
END:VEVENT
END:VCALENDAR