BEGIN:VCALENDAR
VERSION:2.0
PRODID:-//Automobilsällskapet Nyköping - ECPv4.7.3//NONSGML v1.0//EN
CALSCALE:GREGORIAN
METHOD:PUBLISH
X-WR-CALNAME:Automobilsällskapet Nyköping
X-ORIGINAL-URL:http://automobilsallskapet.se
X-WR-CALDESC:Händelser för Automobilsällskapet Nyköping
BEGIN:VEVENT
DTSTART;TZID=Europe/Stockholm:20191218T183000
DTEND;TZID=Europe/Stockholm:20191218T220000
DTSTAMP:20260426T032019
CREATED:20190906T133429Z
LAST-MODIFIED:20191027T110430Z
UID:10768-1576693800-1576706400@automobilsallskapet.se
SUMMARY:HJULFEST  på TRÄFFEN
DESCRIPTION:Det här blir ”Favoriter i repris” för vi har samma lokal som förra året: Hjorten på Träffen\, vi har samma matleverantör (MatMattes) och vi har precis samma pris för hjulbordet som förra året (280 kr för huvudmedlem eller betalande familjemedlem\, annars 360 kr). Som om inte detta vore nog så har vi också samma favoritorkester som förra året\, nämligen  ”Gubbröra” med Kenth Nykvist och P O Saxe bl a. Den fjärde favoriten i repris är förstås vår egen ConKÖR de Charme som i år sägs ha en fantastisk repertoar. \nSista anmälningsdag 12 dec till Urban eller Per \n
URL:http://automobilsallskapet.se/event/hjulfest-pa-traffen
END:VEVENT
END:VCALENDAR