BEGIN:VCALENDAR
VERSION:2.0
PRODID:-//Automobilsällskapet Nyköping - ECPv4.7.3//NONSGML v1.0//EN
CALSCALE:GREGORIAN
METHOD:PUBLISH
X-WR-CALNAME:Automobilsällskapet Nyköping
X-ORIGINAL-URL:http://automobilsallskapet.se
X-WR-CALDESC:Händelser för Automobilsällskapet Nyköping
BEGIN:VEVENT
DTSTART;TZID=Europe/Stockholm:20211212T120000
DTEND;TZID=Europe/Stockholm:20211212T150000
DTSTAMP:20260422T095306
CREATED:20211028T202504Z
LAST-MODIFIED:20211210T155218Z
UID:11698-1639310400-1639321200@automobilsallskapet.se
SUMMARY:Hjulfesten på Träffen inställd!!!
DESCRIPTION:Tyvärr\, tyvärr\, tyvärr! P g a covidsituationen så har vi tvingats komma med det tunga beskedet att ställa in årets Hjulfest. Vi hoppas att ni har förståelse för att det är av omtanke vi har tagit det här beslutet – det skulle ha varit såå trevligt att kunna festa tillsammans igen. MEN vi får hoppas på bättre tider under nästa år. \nStyrelsen hälsar alla medlemmar en GOD JUL och ETT GOTT NYTT ÅR \n \n
URL:http://automobilsallskapet.se/event/hjulfest-pa-traffen-igen
END:VEVENT
END:VCALENDAR