BEGIN:VCALENDAR
VERSION:2.0
PRODID:-//Automobilsällskapet Nyköping - ECPv4.7.3//NONSGML v1.0//EN
CALSCALE:GREGORIAN
METHOD:PUBLISH
X-WR-CALNAME:Automobilsällskapet Nyköping
X-ORIGINAL-URL:http://automobilsallskapet.se
X-WR-CALDESC:Händelser för Automobilsällskapet Nyköping
BEGIN:VEVENT
DTSTART;TZID=Europe/Stockholm:20220706T173000
DTEND;TZID=Europe/Stockholm:20220706T210000
DTSTAMP:20260425T102916
CREATED:20220222T111651Z
LAST-MODIFIED:20220222T125826Z
UID:11818-1657128600-1657141200@automobilsallskapet.se
SUMMARY:Hamnträff   Tema: USA-bilar
DESCRIPTION:Har du en yankie-bil i gott skick så är du välkommen även om bilen inte är 30 år\, men av nyare amerikanare som inte har något årsmodellskrav räknar vi framförallt Mustanger och Corvetter som kultbilar. \nÄven vanliga europeer som är 30 år och i fint skick välkomnas \n
URL:http://automobilsallskapet.se/event/hamntraff-tema-usa-bilar
END:VEVENT
END:VCALENDAR