BEGIN:VCALENDAR
VERSION:2.0
PRODID:-//Automobilsällskapet Nyköping - ECPv4.7.3//NONSGML v1.0//EN
CALSCALE:GREGORIAN
METHOD:PUBLISH
X-WR-CALNAME:Automobilsällskapet Nyköping
X-ORIGINAL-URL:http://automobilsallskapet.se
X-WR-CALDESC:Händelser för Automobilsällskapet Nyköping
BEGIN:VEVENT
DTSTART;TZID=Europe/Stockholm:20220720T173000
DTEND;TZID=Europe/Stockholm:20220720T210000
DTSTAMP:20260425T151653
CREATED:20220222T112531Z
LAST-MODIFIED:20220222T125616Z
UID:11822-1658338200-1658350800@automobilsallskapet.se
SUMMARY:Hamnträff   Tema: Tyska bilar
DESCRIPTION:Tyska bilar som kan anses som ”Blivande klassiker” slipper i kväll åldersgräns. Men alla övriga bilar skall vara minst 30 år och i fint skick. \n
URL:http://automobilsallskapet.se/event/hamntraff-tema-tyska-bilar
END:VEVENT
END:VCALENDAR