BEGIN:VCALENDAR
VERSION:2.0
PRODID:-//Automobilsällskapet Nyköping - ECPv4.7.3//NONSGML v1.0//EN
CALSCALE:GREGORIAN
METHOD:PUBLISH
X-WR-CALNAME:Automobilsällskapet Nyköping
X-ORIGINAL-URL:http://automobilsallskapet.se
X-WR-CALDESC:Händelser för Automobilsällskapet Nyköping
BEGIN:VEVENT
DTSTART;TZID=Europe/Stockholm:20220629T173000
DTEND;TZID=Europe/Stockholm:20220629T210000
DTSTAMP:20260425T121531
CREATED:20220222T111002Z
LAST-MODIFIED:20220222T111002Z
UID:11816-1656523800-1656536400@automobilsallskapet.se
SUMMARY:Hamnträff  Tema: Svans- o mittmotorbilar
DESCRIPTION:Det här kvällen för gamla VW\, Renault CV4/Dauphine/Floride/\, Fiat ”flera hundra”\, Simca 1000\, Hillman Imp\, Porsche\, Ferrari\, Lamborghini\, MG F och TF\, Lotus\, Corvair med flera.  Med motorn bak eller i mitten är du välkommen även med en nyare bil. \nOch givetvis vill vi även se många andra bilar som är minst 30 år och i fint skick \n
URL:http://automobilsallskapet.se/event/hamntraff-tema-svans-o-mittmotorbilar
END:VEVENT
END:VCALENDAR