BEGIN:VCALENDAR
VERSION:2.0
PRODID:-//Automobilsällskapet Nyköping - ECPv4.7.3//NONSGML v1.0//EN
CALSCALE:GREGORIAN
METHOD:PUBLISH
X-WR-CALNAME:Automobilsällskapet Nyköping
X-ORIGINAL-URL:http://automobilsallskapet.se
X-WR-CALDESC:Händelser för Automobilsällskapet Nyköping
BEGIN:VEVENT
DTSTART;TZID=Europe/Stockholm:20210721T170000
DTEND;TZID=Europe/Stockholm:20210721T200000
DTSTAMP:20260420T141706
CREATED:20210720T081203Z
LAST-MODIFIED:20210720T081741Z
UID:11488-1626886800-1626897600@automobilsallskapet.se
SUMMARY:Hamnträff i Nyköpings Hamn
DESCRIPTION:Nu är det dags igen! Vi har fått polistillstånd för arrangemanget fr o m onsdag den 21/7. \nSamma plats som tidigare\, men det är väl också det enda som är sig likt: \n*Insläpp från kl 17.00 \n*Dubbelt avstånd mellan fordonen – begränsar antalet fordon men ger en säkrare miljö \n*Inget Tema\, men 30-årsgräns och fordon i gott skick gäller \n*För att begränsa risken för publikklungor har vi ingen parad\, inga intervjuer och ingen prisutdelning. Dessutom uppmanar vi alla att tänka på avståndet. \nHuvudsyftet är att återigen få träffas\, njuta av intressanta fordon och ha roligt. Ha gärna egen picknick vid bilen\, men caféerna tar förstås gärna emot gäster och hos Aktersnurran finns nya glass-smaker att prova. Dock har vi inga rabattkuponger i år. \nVÄLKOMNA \n
URL:http://automobilsallskapet.se/event/hamntraff-i-nykopings-hamn
END:VEVENT
END:VCALENDAR