BEGIN:VCALENDAR
VERSION:2.0
PRODID:-//Automobilsällskapet Nyköping - ECPv4.7.3//NONSGML v1.0//EN
CALSCALE:GREGORIAN
METHOD:PUBLISH
X-WR-CALNAME:Automobilsällskapet Nyköping
X-ORIGINAL-URL:http://automobilsallskapet.se
X-WR-CALDESC:Händelser för Automobilsällskapet Nyköping
BEGIN:VEVENT
DTSTART;TZID=Europe/Stockholm:20200617T173000
DTEND;TZID=Europe/Stockholm:20200617T210000
DTSTAMP:20260425T200622
CREATED:20200216T113135Z
LAST-MODIFIED:20200424T100843Z
UID:10972-1592415000-1592427600@automobilsallskapet.se
SUMMARY:Hamnkväll med Tema: Tyska bilar   INSTÄLLT
DESCRIPTION:Alla fordon som är minst 30 år gamla och i fint skick är välkomna\, MEN för tyska bilar gäller 10-årsgräns för ”Blivande Klassiker” dvs i princip cabrioleter\, coupéer och modeller med speciella egenskaper. Det brukar vimla av Mercor\, Porschar och BMW:er\, men vi ser gärna även Oplar\, VW\, tyska Fordar och Borgward\, NSU\, Audi\, Glas\, Goliath m fl \n
URL:http://automobilsallskapet.se/event/hamnkvall-med-tema-tyska-bilar
END:VEVENT
END:VCALENDAR