BEGIN:VCALENDAR
VERSION:2.0
PRODID:-//Automobilsällskapet Nyköping - ECPv4.7.3//NONSGML v1.0//EN
CALSCALE:GREGORIAN
METHOD:PUBLISH
X-WR-CALNAME:Automobilsällskapet Nyköping
X-ORIGINAL-URL:http://automobilsallskapet.se
X-WR-CALDESC:Händelser för Automobilsällskapet Nyköping
BEGIN:VEVENT
DTSTART;TZID=Europe/Stockholm:20200805T173000
DTEND;TZID=Europe/Stockholm:20200805T210000
DTSTAMP:20260425T125058
CREATED:20200217T161423Z
LAST-MODIFIED:20200704T130658Z
UID:11002-1596648600-1596661200@automobilsallskapet.se
SUMMARY:Hamnkväll med Tema: Svenska bilar    INSTÄLLT
DESCRIPTION:Alla fordon som är minst 30 år och i fint skick är välkomna till träffen\, men den här kvällen placeras svenska fordon på bästa plats på kajen. 10-årsgräns gäller för ”Blivande klassiker” och det kan t e x vara Volvo C70 Cab och Saab 900 Cab. Men vi vill också gärna se någon Scania\, någon Vabis\, någon Indigo 3000 och varför inte en Königsegg? \n
URL:http://automobilsallskapet.se/event/hamnkvall-med-tema-svenska-bilar
END:VEVENT
END:VCALENDAR