BEGIN:VCALENDAR
VERSION:2.0
PRODID:-//Automobilsällskapet Nyköping - ECPv4.7.3//NONSGML v1.0//EN
CALSCALE:GREGORIAN
METHOD:PUBLISH
X-WR-CALNAME:Automobilsällskapet Nyköping
X-ORIGINAL-URL:http://automobilsallskapet.se
X-WR-CALDESC:Händelser för Automobilsällskapet Nyköping
BEGIN:VEVENT
DTSTART;TZID=Europe/Stockholm:20200624T173000
DTEND;TZID=Europe/Stockholm:20200624T210000
DTSTAMP:20260425T200609
CREATED:20200217T090000Z
LAST-MODIFIED:20200424T100912Z
UID:10976-1593019800-1593032400@automobilsallskapet.se
SUMMARY:Hamnkväll med Tema: Franska bilar   INSTÄLLT
DESCRIPTION:Alla fordon som är minst 30 år gamla och i fint skick är välkomna\, MEN den här kvällen slår vi ett slag för fransmännen och är det en s.k. ”Blivande Klassiker” dvs i princip endast cabbar eller coupéer så gäller 10-årsgräns. Det brukar bli många Renault\, Peugeot och Citroên men vi ser givetvis också gärna Matra\, Simca\, Bugatti\, Panhard och andra ovanliga fransoser. \n
URL:http://automobilsallskapet.se/event/hamnkvall-med-tema-franska-bilar
END:VEVENT
END:VCALENDAR