BEGIN:VCALENDAR
VERSION:2.0
PRODID:-//Automobilsällskapet Nyköping - ECPv4.7.3//NONSGML v1.0//EN
CALSCALE:GREGORIAN
METHOD:PUBLISH
X-WR-CALNAME:Automobilsällskapet Nyköping
X-ORIGINAL-URL:http://automobilsallskapet.se
X-WR-CALDESC:Händelser för Automobilsällskapet Nyköping
BEGIN:VEVENT
DTSTART;TZID=Europe/Stockholm:20200729T173000
DTEND;TZID=Europe/Stockholm:20200729T210000
DTSTAMP:20260425T155533
CREATED:20200217T154648Z
LAST-MODIFIED:20200704T130630Z
UID:10998-1596043800-1596056400@automobilsallskapet.se
SUMMARY:Hamnkväll med Tema: Engelska bilar   INSTÄLLT
DESCRIPTION:Alla typer av fordon som är minst 30 år gamla och i fint skick är välkomna till träffen\, MEN vi gullar litet extra med engelska bilar varav det inte finns så många nytillverkade numer. Jaguar\, MG och Mini är välkomna från 10 års ålder och Rolls Royce\, Bentley och Morgan får komma oavsett ålder. Men vi räknar också med många Austin\, Morris\, Rover\, Riley\, Wolseley\, Hillman\, Humber\, Sunbeam\, Singer\, Triumph\, Alvis och andra engelska märken som har gått i graven. \n
URL:http://automobilsallskapet.se/event/hamnkvall-med-tema-engelska-bilar
END:VEVENT
END:VCALENDAR