BEGIN:VCALENDAR
VERSION:2.0
PRODID:-//Automobilsällskapet Nyköping - ECPv4.7.3//NONSGML v1.0//EN
CALSCALE:GREGORIAN
METHOD:PUBLISH
X-WR-CALNAME:Automobilsällskapet Nyköping
X-ORIGINAL-URL:http://automobilsallskapet.se
X-WR-CALDESC:Händelser för Automobilsällskapet Nyköping
BEGIN:VEVENT
DTSTART;TZID=Europe/Stockholm:20200603T173000
DTEND;TZID=Europe/Stockholm:20200603T210000
DTSTAMP:20260425T200618
CREATED:20200216T111712Z
LAST-MODIFIED:20200424T100616Z
UID:10964-1591205400-1591218000@automobilsallskapet.se
SUMMARY:Hamnkväll med Tema: "Bil och Stil"  INSTÄLLT
DESCRIPTION:Alla fordon som är minst 30 år gamla och i fint skick är välkomna\, MEN den här kvällen ser vi gärna att förare och passagerare är klädda i stil och ålder med fordonet (det behöver inte vara bil). Dessa ekipage blir placerade centralt på kajen  och blir presenterade och intervjuade och dessutom utser en jury tre ekipage som har stuckit ut. Dessa får en fin prispokal och gratis hamburgare för två hos Hassan.  \n
URL:http://automobilsallskapet.se/event/hamnkvall-med-tema-bil-och-stil
END:VEVENT
END:VCALENDAR