BEGIN:VCALENDAR
VERSION:2.0
PRODID:-//Automobilsällskapet Nyköping - ECPv4.7.3//NONSGML v1.0//EN
CALSCALE:GREGORIAN
METHOD:PUBLISH
X-WR-CALNAME:Automobilsällskapet Nyköping
X-ORIGINAL-URL:http://automobilsallskapet.se
X-WR-CALDESC:Händelser för Automobilsällskapet Nyköping
BEGIN:VEVENT
DTSTART;TZID=Europe/Stockholm:20210606T090000
DTEND;TZID=Europe/Stockholm:20210606T140000
DTSTAMP:20260421T020302
CREATED:20210317T200139Z
LAST-MODIFIED:20210317T200408Z
UID:11370-1622970000-1622988000@automobilsallskapet.se
SUMMARY:GÄSTABUDSRUNDAN 2021- i år endast för våra medlemmar
DESCRIPTION: \nPå grund av pandemin så måste vi dra ner på antalet startande i rundan och därför blir den i år endast öppen för våra egna medlemmar. Varje år brukar vi ha många deltagare som inte är medlemmar och  vi hoppas ni förstår att vi måste  ta till okonventionella grepp för att begränsa risken för smittspridning. Vi kommer att sakna er från Linköping\, Täby och Svärtinge\, men hoppas att vi kan ses igen 2022. \nÅrets runda går den 6 juni och som vanligt sker start och mål  vid klubblokalen. \nFörsta start 10.00 \nIngen startavgift i år men obligatorisk anmälan \nVar och en har sin egen picknick med sig \nInga praktiska prov under rundan-endast 20 frågor \nVi reserverar oss för att pandemisituationen kan omöjliggöra rundan men givetvis hoppas vi på det bästa. \n
URL:http://automobilsallskapet.se/event/gastabudsrundan-2021-i-ar-endast-for-vara-medlemmar
END:VEVENT
END:VCALENDAR