BEGIN:VCALENDAR
VERSION:2.0
PRODID:-//Automobilsällskapet Nyköping - ECPv4.7.3//NONSGML v1.0//EN
CALSCALE:GREGORIAN
METHOD:PUBLISH
X-WR-CALNAME:Automobilsällskapet Nyköping
X-ORIGINAL-URL:http://automobilsallskapet.se
X-WR-CALDESC:Händelser för Automobilsällskapet Nyköping
BEGIN:VEVENT
DTSTART;TZID=Europe/Stockholm:20201003T130000
DTEND;TZID=Europe/Stockholm:20201003T150000
DTSTAMP:20260422T161336
CREATED:20200920T073206Z
LAST-MODIFIED:20200920T073206Z
UID:11270-1601730000-1601737200@automobilsallskapet.se
SUMMARY:Föredrag om Norbergska Ångvagnen
DESCRIPTION:I samarbete med Stadsvakten kommer vi att visa ångvagnen för intresserade utanför Stadsvakten (i gamla Källanders lokaler). Kl 14.00 kommer Urban Nyblom att visa bilder och berätta den fascinerande historien om stigtomtasonen Carl Gustaf Norberg och hans tankar om att kunna applicera ångkraften på landbaserade fordon. Urban berättar också om Ångvagnssektionens imponerande arbete med att bygga ångvagnen i full skala under fem års tid. \nMax 25 personer i publiken\, 80 kr inträde \n
URL:http://automobilsallskapet.se/event/foredrag-om-norbergska-angvagnen
END:VEVENT
END:VCALENDAR