BEGIN:VCALENDAR
VERSION:2.0
PRODID:-//Automobilsällskapet Nyköping - ECPv4.7.3//NONSGML v1.0//EN
CALSCALE:GREGORIAN
METHOD:PUBLISH
X-WR-CALNAME:Automobilsällskapet Nyköping
X-ORIGINAL-URL:http://automobilsallskapet.se
X-WR-CALDESC:Händelser för Automobilsällskapet Nyköping
BEGIN:VEVENT
DTSTART;TZID=Europe/Stockholm:20200826T173000
DTEND;TZID=Europe/Stockholm:20200826T210000
DTSTAMP:20260425T123404
CREATED:20200217T163401Z
LAST-MODIFIED:20200704T130822Z
UID:11014-1598463000-1598475600@automobilsallskapet.se
SUMMARY:Final med Tema: Medlemmars fordon    INSTÄLLT
DESCRIPTION:Alla fordon som är minst 30 år och i fint skick är välkomna\, MEN ikväll ställer vi klubbens egna medlemmars fordon på kajen som visar på den bredd vi har i Automobilsällskapet. Även entusiastbilar som inte år 30 år får visas upp – och vi har t o m ombyggda bilar i klubben!  Under kvällen gör vi en kavalkad med bilar som representerar alla teman vi har haft under sommaren – en slags sammanfattning av det som varit. \n
URL:http://automobilsallskapet.se/event/final-med-tema-medlemmars-fordon
END:VEVENT
END:VCALENDAR