BEGIN:VCALENDAR
VERSION:2.0
PRODID:-//Automobilsällskapet Nyköping - ECPv4.7.3//NONSGML v1.0//EN
CALSCALE:GREGORIAN
METHOD:PUBLISH
X-WR-CALNAME:Automobilsällskapet Nyköping
X-ORIGINAL-URL:http://automobilsallskapet.se
X-WR-CALDESC:Händelser för Automobilsällskapet Nyköping
BEGIN:VEVENT
DTSTART;TZID=Europe/Stockholm:20210825T170000
DTEND;TZID=Europe/Stockholm:20210825T200000
DTSTAMP:20260420T204808
CREATED:20210805T204738Z
LAST-MODIFIED:20210805T204738Z
UID:11555-1629910800-1629921600@automobilsallskapet.se
SUMMARY:Final för hamnträffarna i Nyköpings hamn
DESCRIPTION:Tänk att vi ändå fick till ett antal hamnträffar efter nedstängningen p g a coronan. MEN – nu är det sista  kvällen i hamnen och vi hoppas att vi nästa år kan ha ett fullödigt program igen – utan restriktioner. \nIkväll välkomnar vi alla fordon som är minst 30 år gamla och i fint skick och vi blandar alla i en salig röra\, men med coronamässigt avstånd mellan fordonen för att inte skapa trängsel. \n
URL:http://automobilsallskapet.se/event/final-for-hamntraffarna-i-nykopings-hamn
END:VEVENT
END:VCALENDAR