BEGIN:VCALENDAR
VERSION:2.0
PRODID:-//Automobilsällskapet Nyköping - ECPv4.7.3//NONSGML v1.0//EN
CALSCALE:GREGORIAN
METHOD:PUBLISH
X-WR-CALNAME:Automobilsällskapet Nyköping
X-ORIGINAL-URL:http://automobilsallskapet.se
X-WR-CALDESC:Händelser för Automobilsällskapet Nyköping
BEGIN:VEVENT
DTSTART;TZID=Europe/Stockholm:20220119T173000
DTEND;TZID=Europe/Stockholm:20220119T200000
DTSTAMP:20260422T152849
CREATED:20220104T125823Z
LAST-MODIFIED:20220112T181027Z
UID:11724-1642613400-1642622400@automobilsallskapet.se
SUMMARY:EU:s drivmedelspolitik   INSTÄLLT
DESCRIPTION:Den här kvällen får vi stanna hemma \n
URL:http://automobilsallskapet.se/event/eus-drivmedelspolitik
END:VEVENT
END:VCALENDAR