BEGIN:VCALENDAR
VERSION:2.0
PRODID:-//Automobilsällskapet Nyköping - ECPv4.7.3//NONSGML v1.0//EN
CALSCALE:GREGORIAN
METHOD:PUBLISH
X-WR-CALNAME:Automobilsällskapet Nyköping
X-ORIGINAL-URL:http://automobilsallskapet.se
X-WR-CALDESC:Händelser för Automobilsällskapet Nyköping
BEGIN:VEVENT
DTSTART;TZID=Europe/Stockholm:20210505T183000
DTEND;TZID=Europe/Stockholm:20210505T200000
DTSTAMP:20260421T142046
CREATED:20210406T092714Z
LAST-MODIFIED:20210504T145206Z
UID:11384-1620239400-1620244800@automobilsallskapet.se
SUMMARY:Egenkontroll av besiktningsfria fordon (INSTÄLLT  PGA REGN)
DESCRIPTION:Våra äldre fordon är ju numer befriade från besiktningskravet\, vilket dock ställer ett stort ansvar på oss som fordonsägare att underhålla fordonen så den höga säkerheten bibehålls. \nMHRF har tagit fram ett protokoll för egenkontroll och det är med utgångspunkt från detta som vår Tekniska kommitté kommer att hjälpa dig att genomföra de säkerhetskon-troller som behövs. \nVi träffas onsdagen den 5 maj kl 18.30 på baksidan av klubblokalen. Tag gärna med fikakorg! \nInfo: Anders Jansson\, Björn Lindeberg\, Kjell Svensson \n
URL:http://automobilsallskapet.se/event/egenkontroll-av-besiktningsfria-fordon
END:VEVENT
END:VCALENDAR