BEGIN:VCALENDAR
VERSION:2.0
PRODID:-//Automobilsällskapet Nyköping - ECPv4.7.3//NONSGML v1.0//EN
CALSCALE:GREGORIAN
METHOD:PUBLISH
X-WR-CALNAME:Automobilsällskapet Nyköping
X-ORIGINAL-URL:http://automobilsallskapet.se
X-WR-CALDESC:Händelser för Automobilsällskapet Nyköping
BEGIN:VEVENT
DTSTART;TZID=Europe/Stockholm:20210908T173000
DTEND;TZID=Europe/Stockholm:20210908T210000
DTSTAMP:20260420T223021
CREATED:20210901T082904Z
LAST-MODIFIED:20210901T082904Z
UID:11633-1631122200-1631134800@automobilsallskapet.se
SUMMARY:DRIVE-IN-MOVIE med grillning
DESCRIPTION:Nu är det film-tajm igen. Och vilken film s’en!  LE MANS 1966 med bl a Matt Damon i en av huvudrollerna. Filmen handlar om Henry Ford II och hans satsning på att slå Ferraris dominans på världens racerbanor med Ford GT 40 – en bil som Carol Shelby låg bakom och som Ken Miles var med och utvecklade. \nFilmen har en speltid på 2½ timme så därför börjar vi grillningen redan 17.30 och exakt 18.30 rullar filmen igång. Ljudet får ni direkt till bilradion så ni kan sitta ombonat i era bilar – eller sitta och småfrysa om ni vågar vägra tak.  Som vanligt står klubben för grillar och kol medan du själv har med allt du behöver för grillningen (kanske korv\, kanske senap o ketchup\, kanske något att dricka). \n
URL:http://automobilsallskapet.se/event/drive-in-movie-med-grillning
END:VEVENT
END:VCALENDAR