BEGIN:VCALENDAR
VERSION:2.0
PRODID:-//Automobilsällskapet Nyköping - ECPv4.7.3//NONSGML v1.0//EN
CALSCALE:GREGORIAN
METHOD:PUBLISH
X-WR-CALNAME:Automobilsällskapet Nyköping
X-ORIGINAL-URL:http://automobilsallskapet.se
X-WR-CALDESC:Händelser för Automobilsällskapet Nyköping
BEGIN:VEVENT
DTSTART;TZID=Europe/Stockholm:20200923T070000
DTEND;TZID=Europe/Stockholm:20200923T200000
DTSTAMP:20260422T205604
CREATED:20200920T074958Z
LAST-MODIFIED:20200920T074958Z
UID:11275-1600844400-1600891200@automobilsallskapet.se
SUMMARY:Drive-in bio och grillning
DESCRIPTION:Grillarna kommer att vara varma från ca 17.00 – man tar med egen gris att grilla\, senap och ketchup kommer att finnas. \nKl 18.00 startar filmen ”Tucker – en man och en dröm” som handlar om Preston Tucker\, amerikanen som hade en dröm om att tillverka en bil som skulle slå allt. Tyvärr sprack drömmen och endast 51 bilar hann byggas. En intressant ”true story” filmad av den store filmskaparen Francis Ford Coppola. \nFilmen är 1h 46 min \nGratis för medlemmar \nTillåtet att komma i vardagsbilen \n
URL:http://automobilsallskapet.se/event/drive-in-bio-och-grillning
END:VEVENT
END:VCALENDAR