BEGIN:VCALENDAR
VERSION:2.0
PRODID:-//Automobilsällskapet Nyköping - ECPv4.7.3//NONSGML v1.0//EN
CALSCALE:GREGORIAN
METHOD:PUBLISH
X-WR-CALNAME:Automobilsällskapet Nyköping
X-ORIGINAL-URL:http://automobilsallskapet.se
X-WR-CALDESC:Händelser för Automobilsällskapet Nyköping
BEGIN:VEVENT
DTSTART;TZID=Europe/Stockholm:20200426T120000
DTEND;TZID=Europe/Stockholm:20200426T160000
DTSTAMP:20260426T005319
CREATED:20200101T165653Z
LAST-MODIFIED:20200409T093909Z
UID:10940-1587902400-1587916800@automobilsallskapet.se
SUMMARY:Bakluckeloppis med Öppet Hus INSTÄLLT
DESCRIPTION:INSTÄLLT \n
URL:http://automobilsallskapet.se/event/bakluckeloppis-med-oppet-hus
END:VEVENT
END:VCALENDAR