BEGIN:VCALENDAR
VERSION:2.0
PRODID:-//Automobilsällskapet Nyköping - ECPv4.7.3//NONSGML v1.0//EN
CALSCALE:GREGORIAN
METHOD:PUBLISH
X-WR-CALNAME:Automobilsällskapet Nyköping
X-ORIGINAL-URL:http://automobilsallskapet.se
X-WR-CALDESC:Händelser för Automobilsällskapet Nyköping
BEGIN:VEVENT
DTSTART;TZID=Europe/Stockholm:20210815T150000
DTEND;TZID=Europe/Stockholm:20210815T150000
DTSTAMP:20260420T154018
CREATED:20210722T060925Z
LAST-MODIFIED:20210722T060925Z
UID:11504-1629039600-1629039600@automobilsallskapet.se
SUMMARY:Årsmöten
DESCRIPTION:Det från i vintras uppskjutna årsmötet i Automobilsällskapet genomförs på Skavsta söndagen den 15 augusti kl 15.00. Om vädret tillåter sker mötet utomhus\, annars inomhus med avstånd. Årsmöteshandlingar har skickats ut till medlemmarna med kallelsen. Vid mötet delas också Renoveringspriset ut och en ny hedersmedlem kommer att utses. Obligatorisk anmälan med tanke på planering och förtäring. \nEn timme innan – dvs 14.00 – hålls årsmöte i Ångvagnssektionen \n
URL:http://automobilsallskapet.se/event/arsmoten
END:VEVENT
END:VCALENDAR