BEGIN:VCALENDAR
VERSION:2.0
PRODID:-//Automobilsällskapet Nyköping - ECPv4.7.3//NONSGML v1.0//EN
CALSCALE:GREGORIAN
METHOD:PUBLISH
X-WR-CALNAME:Automobilsällskapet Nyköping
X-ORIGINAL-URL:http://automobilsallskapet.se
X-WR-CALDESC:Händelser för Automobilsällskapet Nyköping
BEGIN:VEVENT
DTSTART;TZID=Europe/Stockholm:20220307T150000
DTEND;TZID=Europe/Stockholm:20220307T170000
DTSTAMP:20260425T185111
CREATED:20220209T213246Z
LAST-MODIFIED:20220209T213246Z
UID:11765-1646665200-1646672400@automobilsallskapet.se
SUMMARY:ÅRSMÖTE i Ångvagnssektionen 15.00
DESCRIPTION:Du som vill ha fika på årsmötet\, anmäl detta till info@automobilsallskapet.se eller till 070-2141464 \n
URL:http://automobilsallskapet.se/event/arsmote-i-angvagnssektionen-15-00
END:VEVENT
END:VCALENDAR